BEGIN:VCALENDAR
VERSION:2.0
PRODID:icalendar-ruby
CALSCALE:GREGORIAN
METHOD:PUBLISH
BEGIN:VEVENT
DTSTAMP:20260421T220135Z
UID:21-903769@twinriversbaptist.com
DTSTART:20260706T140000Z
DTEND:20260706T160000Z
CLASS:PUBLIC
CREATED:20260421T150019
DESCRIPTION:Are you currently pastoring\, serving as an interim\, filling t
 he pulpit\, or even a former pastor who's currently retired and looking fo
 r fellowship with other brothers who have a similar background and shared 
 experiences? Come join the pastors prayer group for coffee\, a light break
 fast\, encouragement\, and a time of prayer every Monday at the Associatio
 n office. For more information\, contact Randy Boes at (217) 717-7163.
LAST-MODIFIED:20260421T150019
LOCATION:100 Twin River Dr.\, Wright City\, MO 63390
SUMMARY:Pastors Prayer Group
URL;VALUE=URI:https://www.twinriversbaptist.com/events/pastors-prayer-group
 /2026-07-06
END:VEVENT
END:VCALENDAR
